BEGIN:VCALENDAR
VERSION:2.0
PRODID:-//Химический факультет ЮФУ//NONSGML kigkonsult.se iCalcreator 2.30.
 10//
CALSCALE:GREGORIAN
METHOD:PUBLISH
UID:12fecfaf-1554-4e38-bc0f-9e82cbe3305b
X-WR-CALNAME:iCagenda
X-WR-CALDESC:Event Management Extension for Joomla!
X-WR-RELCALID:3E26604A-50F4-4449-8B3E-E4F4932D05B5
X-WR-TIMEZONE:Europe/Moscow
BEGIN:VTIMEZONE
TZID:Europe/Moscow
BEGIN:STANDARD
TZNAME:MSK
DTSTART:20200714T210000
TZOFFSETFROM:+0000
TZOFFSETTO:+0300
END:STANDARD
END:VTIMEZONE
BEGIN:VEVENT
UID:ce9d55bb-33ef-4806-9eb4-7ae80feec663
DTSTAMP:20260419T141904Z
CATEGORIES:Мероприятия для школьников\, абитуриентов
CLASS:PUBLIC
DESCRIPTION;ALTREP="CID:<FFFF__=0ABBE548DFE235B58f9e8a93d@coffeebean.com>":
 В субботу\,&nbsp\;16 апреля&nbsp\;2022 года\,&nbsp\;на химическом&nbsp\;фа
 культете&nbsp\;(Ростов-на-Дону\,&nbsp\;Зорге\,&nbsp\;7) для школьников буд
 ут организовано:\n12:00 -&nbsp\;Пробное тестирование ЕГЭ для учащихся&nbsp
 \;11 классов.&nbsp\;&nbsp\;\nВ день проведения мероприятий 16.04.2022 необ
 ходимо иметь при себе: паспорт\, маску\, калькулятор&nbsp\;и черные&nbsp\;
 ручки для выполнения работы.\nЖдем Вас&nbsp\;на химическом&nbsp\;факультет
 е ЮФУ!
DTSTART:20220416T090000Z
DTEND:20220416T090000Z
GEO:00;0
LOCATION:
ORGANIZER:
SEQUENCE:1
SUMMARY:Пробное тестирование ЕГЭ для учащихся 11 классов
TRANSP:OPAQUE
URL:http://www.chimfak.sfedu.ru/faculty/sobytiya-i-meropriyatiya/12-probnoe
 -testirovanie-ege-dlya-uchashchikhsya-11-klassov/2022-04-16-12-00
END:VEVENT
END:VCALENDAR
