BEGIN:VCALENDAR
VERSION:2.0
PRODID:-//Химический факультет ЮФУ//NONSGML kigkonsult.se iCalcreator 2.30.
 10//
CALSCALE:GREGORIAN
METHOD:PUBLISH
UID:33eb63ab-7e5b-42db-8cf8-901dea4910e5
X-WR-CALNAME:iCagenda
X-WR-CALDESC:Event Management Extension for Joomla!
X-WR-RELCALID:3E26604A-50F4-4449-8B3E-E4F4932D05B5
X-WR-TIMEZONE:Europe/Moscow
BEGIN:VTIMEZONE
TZID:Europe/Moscow
BEGIN:STANDARD
TZNAME:MSK
DTSTART:20200714T210000
TZOFFSETFROM:+0000
TZOFFSETTO:+0300
END:STANDARD
END:VTIMEZONE
BEGIN:VEVENT
UID:b5ebb7e8-ee83-4991-97b9-b4d15d41f559
DTSTAMP:20260419T175900Z
CATEGORIES:Мероприятия для школьников\, абитуриентов
CLASS:PUBLIC
DESCRIPTION;ALTREP="CID:<FFFF__=0ABBE548DFE235B58f9e8a93d@coffeebean.com>":
 В субботу\, 16 апреля 2022 года\, на химическом факультете (Ростов-на-Дону
 \,&nbsp\;Зорге\, 7) для школьников будут организовано:\n10:00 - Пробное те
 стирование ОГЭ для учащихся 9 классов.&nbsp\;&nbsp\;\nВ день проведения ме
 роприятий 16.04.2022 необходимо иметь при себе паспорт\, маску\, калькулят
 ор и черные ручки для выполнения работы.&nbsp\;
DTSTART:20220416T070000Z
DTEND:20220416T070000Z
GEO:00;0
LOCATION:
ORGANIZER:
SEQUENCE:1
SUMMARY:Пробное тестирование ОГЭ для учащихся 9 классов
TRANSP:OPAQUE
URL:http://www.chimfak.sfedu.ru/faculty/sobytiya-i-meropriyatiya/13-probnoe
 -testirovanie-ege-dlya-uchashchikhsya-11-klassov-2/2022-04-16-10-00
END:VEVENT
END:VCALENDAR
