BEGIN:VCALENDAR
VERSION:2.0
PRODID:-//Химический факультет ЮФУ//NONSGML kigkonsult.se iCalcreator 2.30.
 10//
CALSCALE:GREGORIAN
METHOD:PUBLISH
UID:aa8523e5-9ce8-4ad3-b279-d87a45b695f5
X-WR-CALNAME:iCagenda
X-WR-CALDESC:Event Management Extension for Joomla!
X-WR-RELCALID:3E26604A-50F4-4449-8B3E-E4F4932D05B5
X-WR-TIMEZONE:Europe/Moscow
BEGIN:VTIMEZONE
TZID:Europe/Moscow
BEGIN:STANDARD
TZNAME:MSK
DTSTART:20210707T210000
TZOFFSETFROM:+0000
TZOFFSETTO:+0300
END:STANDARD
END:VTIMEZONE
BEGIN:VEVENT
UID:252c984f-492d-432a-9473-3914e92bad99
DTSTAMP:20260419T183734Z
CATEGORIES:Мероприятия для школьников\, абитуриентов
CLASS:PUBLIC
DESCRIPTION;ALTREP="CID:<FFFF__=0ABBE548DFE235B58f9e8a93d@coffeebean.com>":
 9 апреля в 12:00&nbsp\;состоится&nbsp\;пробное тестирование по ОГЭ&nbsp\;и
  ЕГЭ.&nbsp\;
DTSTART:20230409T090000Z
DTEND:20230409T090000Z
GEO:00;0
LOCATION:
ORGANIZER:
SEQUENCE:1
SUMMARY:Пробное тестирование по ОГЭ и ЕГЭ.
TRANSP:OPAQUE
URL:http://www.chimfak.sfedu.ru/faculty/sobytiya-i-meropriyatiya/15-probnoe
 -testirovanie-po-oge-i-ege/2023-04-09-12-00
END:VEVENT
END:VCALENDAR
