BEGIN:VCALENDAR
VERSION:2.0
PRODID:-//Химический факультет ЮФУ//NONSGML kigkonsult.se iCalcreator 2.30.
 10//
CALSCALE:GREGORIAN
METHOD:PUBLISH
UID:9d1c752c-1e90-4f5f-b6f0-810027ae5051
X-WR-CALNAME:iCagenda
X-WR-CALDESC:Event Management Extension for Joomla!
X-WR-RELCALID:3E26604A-50F4-4449-8B3E-E4F4932D05B5
X-WR-TIMEZONE:Europe/Moscow
BEGIN:VTIMEZONE
TZID:Europe/Moscow
BEGIN:STANDARD
TZNAME:MSK
DTSTART:20220711T210000
TZOFFSETFROM:+0000
TZOFFSETTO:+0300
END:STANDARD
END:VTIMEZONE
BEGIN:VEVENT
UID:ea15120a-3336-431c-9644-a8092b84f605
DTSTAMP:20260419T132224Z
CATEGORIES:События
CLASS:PUBLIC
DESCRIPTION:
DTSTART:20240412T110000Z
DTEND:20240412T110000Z
GEO:00;0
LOCATION:
ORGANIZER:
SEQUENCE:1
SUMMARY:Ликвидация невыплат/задержки выплат
TRANSP:OPAQUE
URL:http://www.chimfak.sfedu.ru/faculty/sobytiya-i-meropriyatiya/19-likvida
 tsiya-nevyplat-zaderzhki-vyplat/2024-04-12-14-00
END:VEVENT
END:VCALENDAR
